BEGIN:VCALENDAR
VERSION:2.0
PRODID:-//Plone.org//NONSGML plone.app.event//EN
X-WR-TIMEZONE:Europe/Zurich
BEGIN:VEVENT
SUMMARY:Elternabend 2EP (BO\, CDW\; 19:00h Aula-B/Q)
DTSTART;TZID=Europe/Zurich;VALUE=DATE-TIME:20210901T190000
DTEND;TZID=Europe/Zurich;VALUE=DATE-TIME:20210901T210000
DTSTAMP;VALUE=DATE-TIME:20260421T111112Z
UID:040000008200E00074C5B7101A82E00800000000B02030E29963D70100000000000000
 0010000000C599D4CDBA063F498162D72088DA7326
CREATED;VALUE=DATE-TIME:20210701T072608Z
LAST-MODIFIED;VALUE=DATE-TIME:20210701T072841Z
URL:https://www.sek-pratteln.ch/events/oeffentlich/elternabend-2ep-bo-cdw-
 19-00h-aula-b-q
END:VEVENT
BEGIN:VTIMEZONE
TZID:Europe/Zurich
X-LIC-LOCATION:Europe/Zurich
BEGIN:DAYLIGHT
DTSTART;VALUE=DATE-TIME:20210328T030000
TZNAME:CEST
TZOFFSETFROM:+0100
TZOFFSETTO:+0200
END:DAYLIGHT
END:VTIMEZONE
END:VCALENDAR
