BEGIN:VCALENDAR
VERSION:2.0
PRODID:-//Plone.org//NONSGML plone.app.event//EN
X-WR-TIMEZONE:Europe/Zurich
BEGIN:VEVENT
SUMMARY:Elternabend 2EP (BO\, CDW) 19:00h (Aula B/Q)
DTSTART;TZID=Europe/Zurich;VALUE=DATE-TIME:20250827T190000
DTEND;TZID=Europe/Zurich;VALUE=DATE-TIME:20250827T210000
DTSTAMP;VALUE=DATE-TIME:20260421T111140Z
UID:040000008200E00074C5B7101A82E00800000000A05C1B941CD2DB0100000000000000
 00100000004FBEC57B18C038428DEBBD5DD2ADA210
CREATED;VALUE=DATE-TIME:20250611T084915Z
LAST-MODIFIED;VALUE=DATE-TIME:20250611T085637Z
LOCATION:Aula B/Q
URL:https://www.sek-pratteln.ch/events/oeffentlich/elternabend-2ep-bo-cdw-
 19-00h-aula-b-q-1
END:VEVENT
BEGIN:VTIMEZONE
TZID:Europe/Zurich
X-LIC-LOCATION:Europe/Zurich
BEGIN:DAYLIGHT
DTSTART;VALUE=DATE-TIME:20250330T030000
TZNAME:CEST
TZOFFSETFROM:+0100
TZOFFSETTO:+0200
END:DAYLIGHT
END:VTIMEZONE
END:VCALENDAR
