BEGIN:VCALENDAR
VERSION:2.0
PRODID:-//Plone.org//NONSGML plone.app.event//EN
X-WR-TIMEZONE:Europe/Zurich
BEGIN:VEVENT
SUMMARY:Elternabend 2EP (BO\, CDW\; 19:00)
DTSTART;TZID=Europe/Zurich;VALUE=DATE-TIME:20200826T190000
DTEND;TZID=Europe/Zurich;VALUE=DATE-TIME:20200826T213000
DTSTAMP;VALUE=DATE-TIME:20260421T110925Z
UID:040000008200E00074C5B7101A82E0080000000050D8CDE8034AD60100000000000000
 0010000000FC3544C8CDDC4D49A4E636A93106DD02
CREATED;VALUE=DATE-TIME:20200706T062900Z
LAST-MODIFIED;VALUE=DATE-TIME:20200706T064406Z
LOCATION:Aula-B/Q
URL:https://www.sek-pratteln.ch/events/oeffentlich/elternabend-2ep-bo-cdw-
 19-00
END:VEVENT
BEGIN:VTIMEZONE
TZID:Europe/Zurich
X-LIC-LOCATION:Europe/Zurich
BEGIN:DAYLIGHT
DTSTART;VALUE=DATE-TIME:20200329T030000
TZNAME:CEST
TZOFFSETFROM:+0100
TZOFFSETTO:+0200
END:DAYLIGHT
END:VTIMEZONE
END:VCALENDAR
