BEGIN:VCALENDAR
VERSION:2.0
PRODID:-//Plone.org//NONSGML plone.app.event//EN
X-WR-TIMEZONE:Europe/Zurich
BEGIN:VEVENT
SUMMARY:Elternabend 2A und 2K
DTSTART;TZID=Europe/Zurich;VALUE=DATE-TIME:20170828T193000
DTSTAMP;VALUE=DATE-TIME:20260421T110249Z
UID:fea371cb850141f59e3b752241d169f9@5.35.252.84:8090
CREATED;VALUE=DATE-TIME:20170822T072708Z
LAST-MODIFIED;VALUE=DATE-TIME:20200706T064351Z
LOCATION:kleine Aula\, Q-Trakt
URL:https://www.sek-pratteln.ch/events/oeffentlich/elternabend-2a
END:VEVENT
BEGIN:VTIMEZONE
TZID:Europe/Zurich
X-LIC-LOCATION:Europe/Zurich
BEGIN:DAYLIGHT
DTSTART;VALUE=DATE-TIME:20170326T030000
TZNAME:CEST
TZOFFSETFROM:+0100
TZOFFSETTO:+0200
END:DAYLIGHT
END:VTIMEZONE
END:VCALENDAR
