BEGIN:VCALENDAR
VERSION:2.0
PRODID:-//Plone.org//NONSGML plone.app.event//EN
X-WR-TIMEZONE:Europe/Zurich
BEGIN:VEVENT
SUMMARY:Elternabend 2A (BO\, CDW) 19:00h
DTSTART;TZID=Europe/Zurich;VALUE=DATE-TIME:20230831T190000
DTEND;TZID=Europe/Zurich;VALUE=DATE-TIME:20230831T210000
DTSTAMP;VALUE=DATE-TIME:20260420T170741Z
UID:040000008200E00074C5B7101A82E0080000000000C6FE233DA4D90100000000000000
 001000000025121F69A7A0F749A48859E1D54DC744
CREATED;VALUE=DATE-TIME:20230626T125555Z
LAST-MODIFIED;VALUE=DATE-TIME:20230626T125904Z
LOCATION:Aula B/Q
URL:https://www.sek-pratteln.ch/events/oeffentlich/elternabend-2a-bo-cdw-1
 9-00h
END:VEVENT
BEGIN:VTIMEZONE
TZID:Europe/Zurich
X-LIC-LOCATION:Europe/Zurich
BEGIN:DAYLIGHT
DTSTART;VALUE=DATE-TIME:20230326T030000
TZNAME:CEST
TZOFFSETFROM:+0100
TZOFFSETTO:+0200
END:DAYLIGHT
END:VTIMEZONE
END:VCALENDAR
