BEGIN:VCALENDAR
VERSION:2.0
PRODID:-//Plone.org//NONSGML plone.app.event//EN
X-WR-TIMEZONE:Europe/Zurich
BEGIN:VEVENT
SUMMARY:Elternabend 2A (BO\, CDW\; 19:00h Aula-B/Q)
DTSTART;TZID=Europe/Zurich;VALUE=DATE-TIME:20210902T190000
DTEND;TZID=Europe/Zurich;VALUE=DATE-TIME:20210902T210000
DTSTAMP;VALUE=DATE-TIME:20260421T111113Z
UID:040000008200E00074C5B7101A82E0080000000020901D3D9A63D70100000000000000
 0010000000E33174B9DBD4914D99256ABA20FBD81C
CREATED;VALUE=DATE-TIME:20210701T072609Z
LAST-MODIFIED;VALUE=DATE-TIME:20210701T072841Z
URL:https://www.sek-pratteln.ch/events/oeffentlich/elternabend-2a-bo-cdw-1
 9-00h-aula-b-q
END:VEVENT
BEGIN:VTIMEZONE
TZID:Europe/Zurich
X-LIC-LOCATION:Europe/Zurich
BEGIN:DAYLIGHT
DTSTART;VALUE=DATE-TIME:20210328T030000
TZNAME:CEST
TZOFFSETFROM:+0100
TZOFFSETTO:+0200
END:DAYLIGHT
END:VTIMEZONE
END:VCALENDAR
