BEGIN:VCALENDAR
VERSION:2.0
PRODID:-//Plone.org//NONSGML plone.app.event//EN
X-WR-TIMEZONE:Europe/Zurich
BEGIN:VEVENT
SUMMARY:Elternabend 2A (BO/CDW\; 19:00)
DTSTART;TZID=Europe/Zurich;VALUE=DATE-TIME:20200827T190000
DTEND;TZID=Europe/Zurich;VALUE=DATE-TIME:20200827T213000
DTSTAMP;VALUE=DATE-TIME:20260421T110708Z
UID:040000008200E00074C5B7101A82E008000000002070E748044AD60100000000000000
 001000000025FDBEB25560C5449EE3BBCBA58D6E06
CREATED;VALUE=DATE-TIME:20200706T062859Z
LAST-MODIFIED;VALUE=DATE-TIME:20200706T064406Z
LOCATION:Aula-B/Q
URL:https://www.sek-pratteln.ch/events/oeffentlich/elternabend-2a-bo-cdw-1
 9-00
END:VEVENT
BEGIN:VTIMEZONE
TZID:Europe/Zurich
X-LIC-LOCATION:Europe/Zurich
BEGIN:DAYLIGHT
DTSTART;VALUE=DATE-TIME:20200329T030000
TZNAME:CEST
TZOFFSETFROM:+0100
TZOFFSETTO:+0200
END:DAYLIGHT
END:VTIMEZONE
END:VCALENDAR
