BEGIN:VCALENDAR
VERSION:2.0
PRODID:-//Plone.org//NONSGML plone.app.event//EN
X-WR-TIMEZONE:Europe/Zurich
BEGIN:VEVENT
SUMMARY:Elternabend 2A (Berufswahl\; 1900)
DTSTART;TZID=Europe/Zurich;VALUE=DATE-TIME:20180820T190000
DTEND;TZID=Europe/Zurich;VALUE=DATE-TIME:20180820T220000
DTSTAMP;VALUE=DATE-TIME:20260421T110702Z
UID:040000008200E00074C5B7101A82E0080000000010781427CD07D40100000000000000
 001000000077D2D2D6B2002E40BE03ACC7AB938FB2
CREATED;VALUE=DATE-TIME:20180629T060611Z
DESCRIPTION:\n\n
LAST-MODIFIED;VALUE=DATE-TIME:20200706T064355Z
LOCATION:grosse Aula\, B-Trakt
URL:https://www.sek-pratteln.ch/events/oeffentlich/elternabend-2a-berufswa
 hl-1900
END:VEVENT
BEGIN:VTIMEZONE
TZID:Europe/Zurich
X-LIC-LOCATION:Europe/Zurich
BEGIN:DAYLIGHT
DTSTART;VALUE=DATE-TIME:20180325T030000
TZNAME:CEST
TZOFFSETFROM:+0100
TZOFFSETTO:+0200
END:DAYLIGHT
END:VTIMEZONE
END:VCALENDAR
