BEGIN:VCALENDAR
VERSION:2.0
PRODID:-//Plone.org//NONSGML plone.app.event//EN
X-WR-TIMEZONE:Europe/Zurich
BEGIN:VEVENT
SUMMARY:Elternabend 1EP (FLP und in Klassen\; ab 1900)
DTSTART;TZID=Europe/Zurich;VALUE=DATE-TIME:20181030T190000
DTEND;TZID=Europe/Zurich;VALUE=DATE-TIME:20181030T220000
DTSTAMP;VALUE=DATE-TIME:20260421T111140Z
UID:040000008200E00074C5B7101A82E00800000000108FF757D407D40100000000000000
 0010000000CFDCC001BFBBC94495BA0142D69F5538
CREATED;VALUE=DATE-TIME:20180629T060559Z
DESCRIPTION:\n\n
LAST-MODIFIED;VALUE=DATE-TIME:20200706T064354Z
URL:https://www.sek-pratteln.ch/events/oeffentlich/elternabend-1ep-flp-und
 -in-klassen-ab-1900
END:VEVENT
BEGIN:VTIMEZONE
TZID:Europe/Zurich
X-LIC-LOCATION:Europe/Zurich
BEGIN:STANDARD
DTSTART;VALUE=DATE-TIME:20181028T020000
TZNAME:CET
TZOFFSETFROM:+0200
TZOFFSETTO:+0100
END:STANDARD
END:VTIMEZONE
END:VCALENDAR
