BEGIN:VCALENDAR
VERSION:2.0
PRODID:-//Plone.org//NONSGML plone.app.event//EN
X-WR-TIMEZONE:Europe/Zurich
BEGIN:VEVENT
SUMMARY:Elternabend 1EP
DTSTART;TZID=Europe/Zurich;VALUE=DATE-TIME:20210826T190000
DTEND;TZID=Europe/Zurich;VALUE=DATE-TIME:20210826T210000
DTSTAMP;VALUE=DATE-TIME:20260421T110335Z
UID:040000008200E00074C5B7101A82E008000000003075DD169863D70100000000000000
 001000000024BAFBA0AFBA0246BB87AE9B04771DC0
CREATED;VALUE=DATE-TIME:20210701T072606Z
LAST-MODIFIED;VALUE=DATE-TIME:20210701T072841Z
URL:https://www.sek-pratteln.ch/events/oeffentlich/elternabend-1ep-3
END:VEVENT
BEGIN:VTIMEZONE
TZID:Europe/Zurich
X-LIC-LOCATION:Europe/Zurich
BEGIN:DAYLIGHT
DTSTART;VALUE=DATE-TIME:20210328T030000
TZNAME:CEST
TZOFFSETFROM:+0100
TZOFFSETTO:+0200
END:DAYLIGHT
END:VTIMEZONE
END:VCALENDAR
