BEGIN:VCALENDAR
VERSION:2.0
PRODID:-//Plone.org//NONSGML plone.app.event//EN
X-WR-TIMEZONE:Europe/Zurich
BEGIN:VEVENT
SUMMARY:Elternabend 1EP (19:00h)
DTSTART;TZID=Europe/Zurich;VALUE=DATE-TIME:20230823T190000
DTEND;TZID=Europe/Zurich;VALUE=DATE-TIME:20230823T210000
DTSTAMP;VALUE=DATE-TIME:20260420T170700Z
UID:040000008200E00074C5B7101A82E00800000000502F75873BA4D90100000000000000
 00100000006ECF520DF138CC4593FF6045142644C0
CREATED;VALUE=DATE-TIME:20230626T125556Z
LAST-MODIFIED;VALUE=DATE-TIME:20230626T125904Z
LOCATION:grosse Aula B
URL:https://www.sek-pratteln.ch/events/oeffentlich/elternabend-1ep-19-00h
END:VEVENT
BEGIN:VTIMEZONE
TZID:Europe/Zurich
X-LIC-LOCATION:Europe/Zurich
BEGIN:DAYLIGHT
DTSTART;VALUE=DATE-TIME:20230326T030000
TZNAME:CEST
TZOFFSETFROM:+0100
TZOFFSETTO:+0200
END:DAYLIGHT
END:VTIMEZONE
END:VCALENDAR
