BEGIN:VCALENDAR
VERSION:2.0
PRODID:-//Plone.org//NONSGML plone.app.event//EN
X-WR-TIMEZONE:Europe/Zurich
BEGIN:VEVENT
SUMMARY:Elternabend 1EP (19:00)
DTSTART;TZID=Europe/Zurich;VALUE=DATE-TIME:20190822T190000
DTEND;TZID=Europe/Zurich;VALUE=DATE-TIME:20190822T210000
DTSTAMP;VALUE=DATE-TIME:20260421T110538Z
UID:040000008200E00074C5B7101A82E00800000000D0C3B1EA9E31D50100000000000000
 0010000000371D72DC2F3BC44CA0864AF421D0EE2A
CREATED;VALUE=DATE-TIME:20190708T101857Z
DESCRIPTION:\n\n
LAST-MODIFIED;VALUE=DATE-TIME:20200706T064400Z
LOCATION:grosse Aula-B
URL:https://www.sek-pratteln.ch/events/oeffentlich/elternabend-1ep-19-00
END:VEVENT
BEGIN:VTIMEZONE
TZID:Europe/Zurich
X-LIC-LOCATION:Europe/Zurich
BEGIN:DAYLIGHT
DTSTART;VALUE=DATE-TIME:20190331T030000
TZNAME:CEST
TZOFFSETFROM:+0100
TZOFFSETTO:+0200
END:DAYLIGHT
END:VTIMEZONE
END:VCALENDAR
