BEGIN:VCALENDAR
VERSION:2.0
PRODID:-//Plone.org//NONSGML plone.app.event//EN
X-WR-TIMEZONE:Europe/Zurich
BEGIN:VEVENT
SUMMARY:Elternabend 1Aa\,b\,c
DTSTART;TZID=Europe/Zurich;VALUE=DATE-TIME:20160823T193000
DTEND;TZID=Europe/Zurich;VALUE=DATE-TIME:20160823T213000
DTSTAMP;VALUE=DATE-TIME:20260420T022250Z
UID:040000008200E00074C5B7101A82E00800000000502D4D5F4FD1D10100000000000000
 00100000007FA90605CB1244438733B13E191E2D3B
CREATED;VALUE=DATE-TIME:20160712T121548Z
LAST-MODIFIED;VALUE=DATE-TIME:20200706T064346Z
LOCATION:grosse Aula\, B-Trakt
URL:https://www.sek-pratteln.ch/events/oeffentlich/elternabend-1aa-b-c
END:VEVENT
BEGIN:VTIMEZONE
TZID:Europe/Zurich
X-LIC-LOCATION:Europe/Zurich
BEGIN:DAYLIGHT
DTSTART;VALUE=DATE-TIME:20160327T030000
TZNAME:CEST
TZOFFSETFROM:+0100
TZOFFSETTO:+0200
END:DAYLIGHT
END:VTIMEZONE
END:VCALENDAR
