BEGIN:VCALENDAR
VERSION:2.0
PRODID:-//Plone.org//NONSGML plone.app.event//EN
X-WR-TIMEZONE:Europe/Zurich
BEGIN:VEVENT
SUMMARY:Elternabend 1A (1900 Aula B) und 1-3Ka\,b
DTSTART;TZID=Europe/Zurich;VALUE=DATE-TIME:20180828T190000
DTEND;TZID=Europe/Zurich;VALUE=DATE-TIME:20180828T220000
DTSTAMP;VALUE=DATE-TIME:20260421T111004Z
UID:040000008200E00074C5B7101A82E0080000000030F1648CCE07D40100000000000000
 0010000000C224F1D99457E043B383D9C996AEC4B7
CREATED;VALUE=DATE-TIME:20180629T060609Z
DESCRIPTION:\n\n
LAST-MODIFIED;VALUE=DATE-TIME:20200706T064355Z
LOCATION:grosse Aula\, B-Trakt
URL:https://www.sek-pratteln.ch/events/oeffentlich/elternabend-1a-1900-aul
 a-b-und-1-3ka-b
END:VEVENT
BEGIN:VTIMEZONE
TZID:Europe/Zurich
X-LIC-LOCATION:Europe/Zurich
BEGIN:DAYLIGHT
DTSTART;VALUE=DATE-TIME:20180325T030000
TZNAME:CEST
TZOFFSETFROM:+0100
TZOFFSETTO:+0200
END:DAYLIGHT
END:VTIMEZONE
END:VCALENDAR
