BEGIN:VCALENDAR
VERSION:2.0
PRODID:-//Plone.org//NONSGML plone.app.event//EN
X-WR-TIMEZONE:Europe/Zurich
BEGIN:VEVENT
SUMMARY:Elternabend 1A/1.-3. Ka\,Kb 19:00h
DTSTART;TZID=Europe/Zurich;VALUE=DATE-TIME:20240827T190000
DTEND;TZID=Europe/Zurich;VALUE=DATE-TIME:20240827T210000
DTSTAMP;VALUE=DATE-TIME:20260421T111005Z
UID:040000008200E00074C5B7101A82E00800000000005E95F932C2DA0100000000000000
 0010000000EEEE3A06B7BDBB43884AFAB7C1243CD4
CREATED;VALUE=DATE-TIME:20240627T145126Z
LAST-MODIFIED;VALUE=DATE-TIME:20240627T145409Z
LOCATION:grosse Aula-B
URL:https://www.sek-pratteln.ch/events/oeffentlich/elternabend-1a-1-3-ka-k
 b-19-00h
END:VEVENT
BEGIN:VTIMEZONE
TZID:Europe/Zurich
X-LIC-LOCATION:Europe/Zurich
BEGIN:DAYLIGHT
DTSTART;VALUE=DATE-TIME:20240331T030000
TZNAME:CEST
TZOFFSETFROM:+0100
TZOFFSETTO:+0200
END:DAYLIGHT
END:VTIMEZONE
END:VCALENDAR
