BEGIN:VCALENDAR
VERSION:2.0
PRODID:-//Plone.org//NONSGML plone.app.event//EN
X-WR-TIMEZONE:Europe/Zurich
BEGIN:VEVENT
SUMMARY:Elternabend 1A + 1.-3. Ka/b (19:00h)
DTSTART;TZID=Europe/Zurich;VALUE=DATE-TIME:20230829T190000
DTEND;TZID=Europe/Zurich;VALUE=DATE-TIME:20230829T210000
DTSTAMP;VALUE=DATE-TIME:20260421T110937Z
UID:040000008200E00074C5B7101A82E008000000000008CA303CA4D90100000000000000
 00100000002F4F9AF56AC4B942AF0727C9A5956854
CREATED;VALUE=DATE-TIME:20230626T125556Z
LAST-MODIFIED;VALUE=DATE-TIME:20230626T125904Z
LOCATION:grosse Aula B
URL:https://www.sek-pratteln.ch/events/oeffentlich/elternabend-1a-1-3-ka-b
 -19-00h
END:VEVENT
BEGIN:VTIMEZONE
TZID:Europe/Zurich
X-LIC-LOCATION:Europe/Zurich
BEGIN:DAYLIGHT
DTSTART;VALUE=DATE-TIME:20230326T030000
TZNAME:CEST
TZOFFSETFROM:+0100
TZOFFSETTO:+0200
END:DAYLIGHT
END:VTIMEZONE
END:VCALENDAR
