BEGIN:VCALENDAR
VERSION:2.0
PRODID:-//Plone.org//NONSGML plone.app.event//EN
X-WR-TIMEZONE:Europe/Zurich
BEGIN:VEVENT
SUMMARY:Elternabend 1A + 1.-3. Ka/b (19:00)
DTSTART;TZID=Europe/Zurich;VALUE=DATE-TIME:20200825T190000
DTEND;TZID=Europe/Zurich;VALUE=DATE-TIME:20200825T213000
DTSTAMP;VALUE=DATE-TIME:20260421T110816Z
UID:040000008200E00074C5B7101A82E00800000000F0C14E9D034AD60100000000000000
 0010000000CDB9C204637F5646A98C914B35E5B702
CREATED;VALUE=DATE-TIME:20200706T062901Z
LAST-MODIFIED;VALUE=DATE-TIME:20200706T064407Z
LOCATION:Aula-B/Q
URL:https://www.sek-pratteln.ch/events/oeffentlich/elternabend-1a-1-3-ka-b
 -19-00
END:VEVENT
BEGIN:VTIMEZONE
TZID:Europe/Zurich
X-LIC-LOCATION:Europe/Zurich
BEGIN:DAYLIGHT
DTSTART;VALUE=DATE-TIME:20200329T030000
TZNAME:CEST
TZOFFSETFROM:+0100
TZOFFSETTO:+0200
END:DAYLIGHT
END:VTIMEZONE
END:VCALENDAR
