BEGIN:VCALENDAR
VERSION:2.0
PRODID:-//Plone.org//NONSGML plone.app.event//EN
X-WR-TIMEZONE:Europe/Zurich
BEGIN:VEVENT
SUMMARY:Elternabend 1A +1.-3. Ka/b (19:00 Aula-B/Q)
DTSTART;TZID=Europe/Zurich;VALUE=DATE-TIME:20190827T190000
DTEND;TZID=Europe/Zurich;VALUE=DATE-TIME:20190827T210000
DTSTAMP;VALUE=DATE-TIME:20260421T111141Z
UID:040000008200E00074C5B7101A82E008000000005099717F9F31D50100000000000000
 00100000009CE11F6A8207644B959962E52B37455A
CREATED;VALUE=DATE-TIME:20190708T101855Z
DESCRIPTION:\n\n
LAST-MODIFIED;VALUE=DATE-TIME:20200706T064400Z
LOCATION:grosse Aula-B + kleine Aula-Q
URL:https://www.sek-pratteln.ch/events/oeffentlich/elternabend-1a-1-3-ka-b
 -19-00-aula-b-q
END:VEVENT
BEGIN:VTIMEZONE
TZID:Europe/Zurich
X-LIC-LOCATION:Europe/Zurich
BEGIN:DAYLIGHT
DTSTART;VALUE=DATE-TIME:20190331T030000
TZNAME:CEST
TZOFFSETFROM:+0100
TZOFFSETTO:+0200
END:DAYLIGHT
END:VTIMEZONE
END:VCALENDAR
