BEGIN:VCALENDAR
VERSION:2.0
PRODID:-//Plone.org//NONSGML plone.app.event//EN
X-WR-TIMEZONE:Europe/Zurich
BEGIN:VEVENT
SUMMARY:Elterabend 1A + 1.-3. Ka/b (19:00)
DTSTART;TZID=Europe/Zurich;VALUE=DATE-TIME:20220830T190000
DTEND;TZID=Europe/Zurich;VALUE=DATE-TIME:20220830T210000
DTSTAMP;VALUE=DATE-TIME:20260419T165556Z
UID:040000008200E00074C5B7101A82E00800000000C07A82732183D80100000000000000
 0010000000DE9548D077F5A94E8EBDCBA0881B4682
CREATED;VALUE=DATE-TIME:20220627T163404Z
DESCRIPTION: \n
LAST-MODIFIED;VALUE=DATE-TIME:20220627T170000Z
LOCATION:Aula B/Q
URL:https://www.sek-pratteln.ch/events/oeffentlich/elterabend-1a-1-3-ka-b-
 19-00
END:VEVENT
BEGIN:VTIMEZONE
TZID:Europe/Zurich
X-LIC-LOCATION:Europe/Zurich
BEGIN:DAYLIGHT
DTSTART;VALUE=DATE-TIME:20220327T030000
TZNAME:CEST
TZOFFSETFROM:+0100
TZOFFSETTO:+0200
END:DAYLIGHT
END:VTIMEZONE
END:VCALENDAR
