BEGIN:VCALENDAR
VERSION:2.0
PRODID:-//Plone.org//NONSGML plone.app.event//EN
X-WR-TIMEZONE:Europe/Zurich
BEGIN:VEVENT
SUMMARY:Einteilung Religionsunterricht
DTSTART;TZID=Europe/Zurich;VALUE=DATE-TIME:20230817T072500
DTEND;TZID=Europe/Zurich;VALUE=DATE-TIME:20230817T081000
DTSTAMP;VALUE=DATE-TIME:20260421T110817Z
UID:040000008200E00074C5B7101A82E00800000000F05CD9FD14A5D90100000000000000
 0010000000684D09EB21B06C43970AB8C39FB59C99
CREATED;VALUE=DATE-TIME:20230626T125531Z
LAST-MODIFIED;VALUE=DATE-TIME:20230626T130008Z
LOCATION:kleine Aula Q
URL:https://www.sek-pratteln.ch/events/oeffentlich/einteilung-religionsunt
 erricht
END:VEVENT
BEGIN:VTIMEZONE
TZID:Europe/Zurich
X-LIC-LOCATION:Europe/Zurich
BEGIN:DAYLIGHT
DTSTART;VALUE=DATE-TIME:20230326T030000
TZNAME:CEST
TZOFFSETFROM:+0100
TZOFFSETTO:+0200
END:DAYLIGHT
END:VTIMEZONE
END:VCALENDAR
