BEGIN:VCALENDAR
VERSION:2.0
PRODID:-//Plone.org//NONSGML plone.app.event//EN
X-WR-TIMEZONE:Europe/Zurich
BEGIN:VEVENT
SUMMARY:Einteilung Religionsunterricht 07:25h
DTSTART;TZID=Europe/Zurich;VALUE=DATE-TIME:20240815T072500
DTEND;TZID=Europe/Zurich;VALUE=DATE-TIME:20240815T081000
DTSTAMP;VALUE=DATE-TIME:20260421T111141Z
UID:040000008200E00074C5B7101A82E0080000000030DADE8132C2DA0100000000000000
 00100000004F7A7D5BBE0D454B8688AB3205E31FC3
CREATED;VALUE=DATE-TIME:20240627T145126Z
LAST-MODIFIED;VALUE=DATE-TIME:20240627T145410Z
LOCATION:kleine Aula-Q
URL:https://www.sek-pratteln.ch/events/oeffentlich/einteilung-religionsunt
 erricht-07-25h
END:VEVENT
BEGIN:VTIMEZONE
TZID:Europe/Zurich
X-LIC-LOCATION:Europe/Zurich
BEGIN:DAYLIGHT
DTSTART;VALUE=DATE-TIME:20240331T030000
TZNAME:CEST
TZOFFSETFROM:+0100
TZOFFSETTO:+0200
END:DAYLIGHT
END:VTIMEZONE
END:VCALENDAR
