BEGIN:VCALENDAR
VERSION:2.0
PRODID:-//Plone.org//NONSGML plone.app.event//EN
X-WR-TIMEZONE:Europe/Zurich
BEGIN:VEVENT
SUMMARY:Einteilung Religionsunterricht / 07:25h (Aula Q)
DTSTART;TZID=Europe/Zurich;VALUE=DATE-TIME:20250814T072500
DTEND;TZID=Europe/Zurich;VALUE=DATE-TIME:20250814T081000
DTSTAMP;VALUE=DATE-TIME:20260421T111215Z
UID:040000008200E00074C5B7101A82E0080000000050E138931BD2DB0100000000000000
 0010000000009F64F6F629334AA87FF771D3E0E754
CREATED;VALUE=DATE-TIME:20250611T084916Z
LAST-MODIFIED;VALUE=DATE-TIME:20250611T085637Z
LOCATION:kleine Aula Q
URL:https://www.sek-pratteln.ch/events/oeffentlich/einteilung-religionsunt
 erricht-07-25h-aula-q
END:VEVENT
BEGIN:VTIMEZONE
TZID:Europe/Zurich
X-LIC-LOCATION:Europe/Zurich
BEGIN:DAYLIGHT
DTSTART;VALUE=DATE-TIME:20250330T030000
TZNAME:CEST
TZOFFSETFROM:+0100
TZOFFSETTO:+0200
END:DAYLIGHT
END:VTIMEZONE
END:VCALENDAR
