BEGIN:VCALENDAR
VERSION:2.0
PRODID:-//Plone.org//NONSGML plone.app.event//EN
X-WR-TIMEZONE:Europe/Zurich
BEGIN:VEVENT
SUMMARY:Eingabe Urlaubsgesuche Zuckerfest
DTSTART;VALUE=DATE:20260202
DTEND;VALUE=DATE:20260203
DTSTAMP;VALUE=DATE-TIME:20260421T111114Z
UID:040000008200E00074C5B7101A82E0080000000010BDB1E329D2DB0100000000000000
 00100000001015A121C7851843B8521E6362B0D754
CREATED;VALUE=DATE-TIME:20250611T084843Z
LAST-MODIFIED;VALUE=DATE-TIME:20250611T085836Z
URL:https://www.sek-pratteln.ch/events/oeffentlich/eingabe-urlaubsgesuche-
 zuckerfest
END:VEVENT
END:VCALENDAR
