BEGIN:VCALENDAR
VERSION:2.0
PRODID:-//Plone.org//NONSGML plone.app.event//EN
X-WR-TIMEZONE:Europe/Zurich
BEGIN:VEVENT
SUMMARY:Einfürungstag (0800-1700) mit KoKo und UT gemäss Programm SL
DTSTART;TZID=Europe/Zurich;VALUE=DATE-TIME:20190807T080000
DTEND;TZID=Europe/Zurich;VALUE=DATE-TIME:20190807T170000
DTSTAMP;VALUE=DATE-TIME:20260421T144659Z
UID:040000008200E00074C5B7101A82E00800000000C0C00FFDDA07D40100000000000000
 001000000030BBED08FEB2BF40A8C8D6FF7091DE26
CREATED;VALUE=DATE-TIME:20180629T060535Z
DESCRIPTION:\n\n
LAST-MODIFIED;VALUE=DATE-TIME:20200706T064352Z
URL:https://www.sek-pratteln.ch/events/oeffentlich/einfuerungstag-0800-170
 0-mit-koko-und-ut-gemaess-programm-sl
END:VEVENT
BEGIN:VTIMEZONE
TZID:Europe/Zurich
X-LIC-LOCATION:Europe/Zurich
BEGIN:DAYLIGHT
DTSTART;VALUE=DATE-TIME:20190331T030000
TZNAME:CEST
TZOFFSETFROM:+0100
TZOFFSETTO:+0200
END:DAYLIGHT
END:VTIMEZONE
END:VCALENDAR
