BEGIN:VCALENDAR
VERSION:2.0
PRODID:-//Plone.org//NONSGML plone.app.event//EN
X-WR-TIMEZONE:Europe/Zurich
BEGIN:VEVENT
SUMMARY:Einführungstag mit KoKo und Fachschaften\, gemäss Programm SL
DTSTART;TZID=Europe/Zurich;VALUE=DATE-TIME:20180809T080000
DTEND;TZID=Europe/Zurich;VALUE=DATE-TIME:20180809T170000
DTSTAMP;VALUE=DATE-TIME:20260421T111141Z
UID:040000008200E00074C5B7101A82E0080000000070C6E553CB07D40100000000000000
 00100000002C64230E6C4A7C46A6C29C72F8438B39
CREATED;VALUE=DATE-TIME:20180629T060613Z
LAST-MODIFIED;VALUE=DATE-TIME:20200706T064355Z
URL:https://www.sek-pratteln.ch/events/oeffentlich/einfuehrungstag-mit-kok
 o-und-ut-gemaess-programm-sl
END:VEVENT
BEGIN:VTIMEZONE
TZID:Europe/Zurich
X-LIC-LOCATION:Europe/Zurich
BEGIN:DAYLIGHT
DTSTART;VALUE=DATE-TIME:20180325T030000
TZNAME:CEST
TZOFFSETFROM:+0100
TZOFFSETTO:+0200
END:DAYLIGHT
END:VTIMEZONE
END:VCALENDAR
