BEGIN:VCALENDAR
VERSION:2.0
PRODID:-//Plone.org//NONSGML plone.app.event//EN
X-WR-TIMEZONE:Europe/Zurich
BEGIN:VEVENT
SUMMARY:Einführungstag (0800-1700) mit Fachschaftssitzungen
DTSTART;TZID=Europe/Zurich;VALUE=DATE-TIME:20190808T080000
DTEND;TZID=Europe/Zurich;VALUE=DATE-TIME:20190808T170000
DTSTAMP;VALUE=DATE-TIME:20260421T111310Z
UID:040000008200E00074C5B7101A82E00800000000A0937787DB07D40100000000000000
 001000000068775C81CC229243A2C1CBDF60B7EAD5
CREATED;VALUE=DATE-TIME:20180629T060534Z
DESCRIPTION:\n\n
LAST-MODIFIED;VALUE=DATE-TIME:20200706T064352Z
URL:https://www.sek-pratteln.ch/events/oeffentlich/einfuehrungstag-0800-17
 00-mit-fachschaftssitzungen
END:VEVENT
BEGIN:VTIMEZONE
TZID:Europe/Zurich
X-LIC-LOCATION:Europe/Zurich
BEGIN:DAYLIGHT
DTSTART;VALUE=DATE-TIME:20190331T030000
TZNAME:CEST
TZOFFSETFROM:+0100
TZOFFSETTO:+0200
END:DAYLIGHT
END:VTIMEZONE
END:VCALENDAR
