BEGIN:VCALENDAR
VERSION:2.0
PRODID:-//Plone.org//NONSGML plone.app.event//EN
X-WR-TIMEZONE:Europe/Zurich
BEGIN:VEVENT
SUMMARY:Eidg. Turnfest Jugend\, Lausanne
DTSTART;VALUE=DATE:20250612
DTEND;VALUE=DATE:20250616
DTSTAMP;VALUE=DATE-TIME:20260421T110938Z
UID:040000008200E00074C5B7101A82E00800000000E0E8552644C2DA0100000000000000
 00100000008E05C9C812A9504D9C5CBDA01F087C8D
CREATED;VALUE=DATE-TIME:20240627T145051Z
LAST-MODIFIED;VALUE=DATE-TIME:20240627T145632Z
URL:https://www.sek-pratteln.ch/events/oeffentlich/eidg-turnfest-jugend-la
 usanne
END:VEVENT
END:VCALENDAR
