BEGIN:VCALENDAR
VERSION:2.0
PRODID:-//Plone.org//NONSGML plone.app.event//EN
X-WR-TIMEZONE:Europe/Zurich
BEGIN:VEVENT
SUMMARY:Durchführung Check S3 (schriftlich)
DTSTART;VALUE=DATE:20180323
DTEND;VALUE=DATE:20180324
DTSTAMP;VALUE=DATE-TIME:20260420T095916Z
UID:040000008200E00074C5B7101A82E008000000009096D8A9EEE8D20100000000000000
 0010000000EADE595BBF4908438A9140092D92AB3D
CREATED;VALUE=DATE-TIME:20170623T094916Z
DESCRIPTION:None
LAST-MODIFIED;VALUE=DATE-TIME:20200706T064350Z
URL:https://www.sek-pratteln.ch/events/oeffentlich/durchfuehrung-check-s3-
 schriftlich/2018-03-23
END:VEVENT
END:VCALENDAR
