BEGIN:VCALENDAR
VERSION:2.0
PRODID:-//Plone.org//NONSGML plone.app.event//EN
X-WR-TIMEZONE:Europe/Zurich
BEGIN:VEVENT
SUMMARY:Durchführung Check S3 (online)
DTSTART;VALUE=DATE:20180514
DTEND;VALUE=DATE:20180519
DTSTAMP;VALUE=DATE-TIME:20260421T110745Z
UID:040000008200E00074C5B7101A82E00800000000E07017DBEFE8D20100000000000000
 0010000000C03CE60F7AF897478597F68727EFC3BB
CREATED;VALUE=DATE-TIME:20170623T094920Z
LAST-MODIFIED;VALUE=DATE-TIME:20200706T064350Z
URL:https://www.sek-pratteln.ch/events/oeffentlich/durchfuehrung-check-s3-
 online-1
END:VEVENT
END:VCALENDAR
