BEGIN:VCALENDAR
VERSION:2.0
PRODID:-//Plone.org//NONSGML plone.app.event//EN
X-WR-TIMEZONE:Europe/Zurich
BEGIN:VEVENT
SUMMARY:Durchführung Check S2 (schriftlich)
DTSTART;VALUE=DATE:20180122
DTEND;VALUE=DATE:20180127
DTSTAMP;VALUE=DATE-TIME:20260421T150541Z
UID:040000008200E00074C5B7101A82E00800000000609328DEEDE8D20100000000000000
 001000000018F9D544D249C44689A4C394F10CC156
CREATED;VALUE=DATE-TIME:20170623T094915Z
LAST-MODIFIED;VALUE=DATE-TIME:20200706T064350Z
URL:https://www.sek-pratteln.ch/events/oeffentlich/durchfuehrung-check-s2-
 schriftlich
END:VEVENT
END:VCALENDAR
