BEGIN:VCALENDAR
VERSION:2.0
PRODID:-//Plone.org//NONSGML plone.app.event//EN
X-WR-TIMEZONE:Europe/Zurich
BEGIN:VEVENT
SUMMARY:Durchführung Check S2 (online)
DTSTART;VALUE=DATE:20180226
DTEND;VALUE=DATE:20180227
DTSTAMP;VALUE=DATE-TIME:20260419T153817Z
UID:040000008200E00074C5B7101A82E00800000000809AA683EEE8D20100000000000000
 00100000006ED85555A6564F48A35977B7408940F3
RRULE:FREQ=DAILY;UNTIL=20180323T000000
CREATED;VALUE=DATE-TIME:20170623T094915Z
DESCRIPTION:None
LAST-MODIFIED;VALUE=DATE-TIME:20200706T064350Z
URL:https://www.sek-pratteln.ch/events/oeffentlich/durchfuehrung-check-s2-
 online
END:VEVENT
END:VCALENDAR
