BEGIN:VCALENDAR
VERSION:2.0
PRODID:-//Plone.org//NONSGML plone.app.event//EN
X-WR-TIMEZONE:Europe/Zurich
BEGIN:VEVENT
SUMMARY:Debattierwettbewerb 15:30-17:30h
DTSTART;TZID=Europe/Zurich;VALUE=DATE-TIME:20241029T153000
DTEND;TZID=Europe/Zurich;VALUE=DATE-TIME:20241029T173000
DTSTAMP;VALUE=DATE-TIME:20260421T111202Z
UID:040000008200E00074C5B7101A82E00800000000C0D2DDB139C2DA0100000000000000
 0010000000E6566FB5EEBBE749B6C2633C761CDAB9
CREATED;VALUE=DATE-TIME:20240627T145112Z
LAST-MODIFIED;VALUE=DATE-TIME:20240627T145511Z
URL:https://www.sek-pratteln.ch/events/oeffentlich/debattierwettbewerb-15-
 30-17-30h
END:VEVENT
BEGIN:VTIMEZONE
TZID:Europe/Zurich
X-LIC-LOCATION:Europe/Zurich
BEGIN:STANDARD
DTSTART;VALUE=DATE-TIME:20241027T020000
TZNAME:CET
TZOFFSETFROM:+0200
TZOFFSETTO:+0100
END:STANDARD
END:VTIMEZONE
END:VCALENDAR
