BEGIN:VCALENDAR
VERSION:2.0
PRODID:-//Plone.org//NONSGML plone.app.event//EN
X-WR-TIMEZONE:Europe/Zurich
BEGIN:VEVENT
SUMMARY:CS-Cup (Nachmittag)
DTSTART;TZID=Europe/Zurich;VALUE=DATE-TIME:20240417T130000
DTEND;TZID=Europe/Zurich;VALUE=DATE-TIME:20240417T170000
DTSTAMP;VALUE=DATE-TIME:20260421T104521Z
UID:cce476adfb784e729af77f2f380cc8e6@82.220.37.140:8081
CREATED;VALUE=DATE-TIME:20240321T082238Z
LAST-MODIFIED;VALUE=DATE-TIME:20240321T082245Z
URL:https://www.sek-pratteln.ch/events/oeffentlich/cs-cup-nachmittag
END:VEVENT
BEGIN:VTIMEZONE
TZID:Europe/Zurich
X-LIC-LOCATION:Europe/Zurich
BEGIN:DAYLIGHT
DTSTART;VALUE=DATE-TIME:20240331T030000
TZNAME:CEST
TZOFFSETFROM:+0100
TZOFFSETTO:+0200
END:DAYLIGHT
END:VTIMEZONE
END:VCALENDAR
