BEGIN:VCALENDAR
VERSION:2.0
PRODID:-//Plone.org//NONSGML plone.app.event//EN
X-WR-TIMEZONE:Europe/Zurich
BEGIN:VEVENT
SUMMARY:Theater-Abo
DTSTART;TZID=Europe/Zurich;VALUE=DATE-TIME:20181122T193000
DTSTAMP;VALUE=DATE-TIME:20260420T162032Z
UID:426838ba5ad2400c85cf1ba13121dff5@5.35.252.84:8090
CONTACT:P. Füeg
CREATED;VALUE=DATE-TIME:20180925T085459Z
DESCRIPTION:Das Versprechen
LAST-MODIFIED;VALUE=DATE-TIME:20200706T064356Z
LOCATION:Schauspielhaus
URL:https://www.sek-pratteln.ch/events/oeffentlich/copy_of_theater-abo
END:VEVENT
BEGIN:VTIMEZONE
TZID:Europe/Zurich
X-LIC-LOCATION:Europe/Zurich
BEGIN:STANDARD
DTSTART;VALUE=DATE-TIME:20181028T020000
TZNAME:CET
TZOFFSETFROM:+0200
TZOFFSETTO:+0100
END:STANDARD
END:VTIMEZONE
END:VCALENDAR
