BEGIN:VCALENDAR
VERSION:2.0
PRODID:-//Plone.org//NONSGML plone.app.event//EN
X-WR-TIMEZONE:Europe/Zurich
BEGIN:VEVENT
SUMMARY:Standortgespräche
DTSTART;VALUE=DATE:20180108
DTEND;VALUE=DATE:20180205
DTSTAMP;VALUE=DATE-TIME:20260421T110923Z
UID:bebc22b8b4c84b64be9ec1a345b439f3@5.35.252.84:8090
CREATED;VALUE=DATE-TIME:20170704T100129Z
LAST-MODIFIED;VALUE=DATE-TIME:20200706T064351Z
URL:https://www.sek-pratteln.ch/events/oeffentlich/copy_of_standortgesprae
 che
END:VEVENT
END:VCALENDAR
