BEGIN:VCALENDAR
VERSION:2.0
PRODID:-//Plone.org//NONSGML plone.app.event//EN
X-WR-TIMEZONE:Europe/Zurich
BEGIN:VEVENT
SUMMARY:Matingatinga am Prattler Weihnachtsmarkt
DTSTART;TZID=Europe/Zurich;VALUE=DATE-TIME:20171126T110000
DTEND;TZID=Europe/Zurich;VALUE=DATE-TIME:20171126T160000
DTSTAMP;VALUE=DATE-TIME:20260420T065546Z
UID:96e23ade37b14dac9bf7515be047ec0b@5.35.252.84:8090
CREATED;VALUE=DATE-TIME:20170809T150030Z
LAST-MODIFIED;VALUE=DATE-TIME:20200706T064351Z
URL:https://www.sek-pratteln.ch/events/oeffentlich/copy_of_matingatinga-am
 -prattler-weihnachtsmarkt
END:VEVENT
BEGIN:VTIMEZONE
TZID:Europe/Zurich
X-LIC-LOCATION:Europe/Zurich
BEGIN:STANDARD
DTSTART;VALUE=DATE-TIME:20171029T020000
TZNAME:CET
TZOFFSETFROM:+0200
TZOFFSETTO:+0100
END:STANDARD
END:VTIMEZONE
END:VCALENDAR
