BEGIN:VCALENDAR
VERSION:2.0
PRODID:-//Plone.org//NONSGML plone.app.event//EN
X-WR-TIMEZONE:Europe/Zurich
BEGIN:VEVENT
SUMMARY:Chorlager
DTSTART;VALUE=DATE:20250523
DTEND;VALUE=DATE:20250529
DTSTAMP;VALUE=DATE-TIME:20260421T110357Z
UID:040000008200E00074C5B7101A82E00800000000A02FA7F841C2DA0100000000000000
 001000000066B8E7B1BBEF2E47BA7593ED72C12C13
CREATED;VALUE=DATE-TIME:20240627T145057Z
LAST-MODIFIED;VALUE=DATE-TIME:20240627T145632Z
URL:https://www.sek-pratteln.ch/events/oeffentlich/chorlager-4
END:VEVENT
END:VCALENDAR
