BEGIN:VCALENDAR
VERSION:2.0
PRODID:-//Plone.org//NONSGML plone.app.event//EN
X-WR-TIMEZONE:Europe/Zurich
BEGIN:VEVENT
SUMMARY:Chorlager
DTSTART;VALUE=DATE:20240507
DTEND;VALUE=DATE:20240513
DTSTAMP;VALUE=DATE-TIME:20260421T110357Z
UID:040000008200E00074C5B7101A82E00800000000E0AEE30238A4D90100000000000000
 00100000000EE585FDC269184697E401D146A774FA
CREATED;VALUE=DATE-TIME:20230626T125556Z
LAST-MODIFIED;VALUE=DATE-TIME:20230626T125904Z
URL:https://www.sek-pratteln.ch/events/oeffentlich/chorlager-3
END:VEVENT
END:VCALENDAR
