BEGIN:VCALENDAR
VERSION:2.0
PRODID:-//Plone.org//NONSGML plone.app.event//EN
X-WR-TIMEZONE:Europe/Zurich
BEGIN:VEVENT
SUMMARY:Chorlager
DTSTART;VALUE=DATE:20230518
DTEND;VALUE=DATE:20230522
DTSTAMP;VALUE=DATE-TIME:20260421T110335Z
UID:040000008200E00074C5B7101A82E00800000000A0083E193983D80100000000000000
 0010000000C2A790B0E2B2EE42BA5011444800A2D2
CREATED;VALUE=DATE-TIME:20220627T163425Z
DESCRIPTION: \n
LAST-MODIFIED;VALUE=DATE-TIME:20220627T165913Z
URL:https://www.sek-pratteln.ch/events/oeffentlich/chorlager-2
END:VEVENT
END:VCALENDAR
