BEGIN:VCALENDAR
VERSION:2.0
PRODID:-//Plone.org//NONSGML plone.app.event//EN
X-WR-TIMEZONE:Europe/Zurich
BEGIN:VEVENT
SUMMARY:Check S3
DTSTART;VALUE=DATE:20190429
DTEND;VALUE=DATE:20190525
DTSTAMP;VALUE=DATE-TIME:20260420T132352Z
UID:040000008200E00074C5B7101A82E00800000000908BF7A9D807D40100000000000000
 00100000009A3979DCCBECBA4DBC3C42526B6A6A9D
CREATED;VALUE=DATE-TIME:20180629T060543Z
DESCRIPTION:\n\n
LAST-MODIFIED;VALUE=DATE-TIME:20200706T064353Z
URL:https://www.sek-pratteln.ch/events/oeffentlich/check-s3
END:VEVENT
END:VCALENDAR
