BEGIN:VCALENDAR
VERSION:2.0
PRODID:-//Plone.org//NONSGML plone.app.event//EN
X-WR-TIMEZONE:Europe/Zurich
BEGIN:VEVENT
SUMMARY:Check S3 Englisch Schreiben (Morgen)
DTSTART;TZID=Europe/Zurich;VALUE=DATE-TIME:20250320T072500
DTEND;TZID=Europe/Zurich;VALUE=DATE-TIME:20250320T114500
DTSTAMP;VALUE=DATE-TIME:20260421T110818Z
UID:040000008200E00074C5B7101A82E00800000000E0056A733EC2DA0100000000000000
 00100000001462930739BF1B498591A0EA767F725E
CREATED;VALUE=DATE-TIME:20240627T145100Z
DESCRIPTION:None
LAST-MODIFIED;VALUE=DATE-TIME:20240815T063529Z
URL:https://www.sek-pratteln.ch/events/oeffentlich/check-s3-f-e-papier-mor
 gen
END:VEVENT
BEGIN:VTIMEZONE
TZID:Europe/Zurich
X-LIC-LOCATION:Europe/Zurich
BEGIN:STANDARD
DTSTART;VALUE=DATE-TIME:20241027T020000
TZNAME:CET
TZOFFSETFROM:+0200
TZOFFSETTO:+0100
END:STANDARD
END:VTIMEZONE
END:VCALENDAR
