BEGIN:VCALENDAR
VERSION:2.0
PRODID:-//Plone.org//NONSGML plone.app.event//EN
X-WR-TIMEZONE:Europe/Zurich
BEGIN:VEVENT
SUMMARY:Check S3 Ergebnisrückmeldung (Woche 24)
DTSTART;VALUE=DATE:20250610
DTEND;VALUE=DATE:20250611
DTSTAMP;VALUE=DATE-TIME:20260421T111218Z
UID:040000008200E00074C5B7101A82E0080000000010855EB143C2DA0100000000000000
 0010000000973EB12B511D6A44A060931976159419
CREATED;VALUE=DATE-TIME:20240627T145052Z
LAST-MODIFIED;VALUE=DATE-TIME:20240627T145632Z
URL:https://www.sek-pratteln.ch/events/oeffentlich/check-s3-ergebnisrueckm
 eldung-woche-24
END:VEVENT
END:VCALENDAR
