BEGIN:VCALENDAR
VERSION:2.0
PRODID:-//Plone.org//NONSGML plone.app.event//EN
X-WR-TIMEZONE:Europe/Zurich
BEGIN:VEVENT
SUMMARY:Check S3 Deutsch Schreiben (Morgen)
DTSTART;TZID=Europe/Zurich;VALUE=DATE-TIME:20250318T072500
DTEND;TZID=Europe/Zurich;VALUE=DATE-TIME:20250318T114500
DTSTAMP;VALUE=DATE-TIME:20260421T105115Z
UID:040000008200E00074C5B7101A82E0080000000060E7612E3EC2DA0100000000000000
 00100000002A235B9053679B4D925C2F7321CB9691
CREATED;VALUE=DATE-TIME:20240627T145101Z
DESCRIPTION:None
LAST-MODIFIED;VALUE=DATE-TIME:20240815T063428Z
URL:https://www.sek-pratteln.ch/events/oeffentlich/check-s3-deutsch-papier
 -morgen
END:VEVENT
BEGIN:VTIMEZONE
TZID:Europe/Zurich
X-LIC-LOCATION:Europe/Zurich
BEGIN:STANDARD
DTSTART;VALUE=DATE-TIME:20241027T020000
TZNAME:CET
TZOFFSETFROM:+0200
TZOFFSETTO:+0100
END:STANDARD
END:VTIMEZONE
END:VCALENDAR
