BEGIN:VCALENDAR
VERSION:2.0
PRODID:-//Plone.org//NONSGML plone.app.event//EN
X-WR-TIMEZONE:Europe/Zurich
BEGIN:VEVENT
SUMMARY:Check S2 online
DTSTART;VALUE=DATE:20250317
DTEND;VALUE=DATE:20250329
DTSTAMP;VALUE=DATE-TIME:20260421T110258Z
UID:040000008200E00074C5B7101A82E008000000008055D3C03DC2DA0100000000000000
 00100000002C61C74F0A6D984199CD199FC3DF418E
CREATED;VALUE=DATE-TIME:20240627T145103Z
LAST-MODIFIED;VALUE=DATE-TIME:20240627T145633Z
URL:https://www.sek-pratteln.ch/events/oeffentlich/check-s2-online
END:VEVENT
END:VCALENDAR
