BEGIN:VCALENDAR
VERSION:2.0
PRODID:-//Plone.org//NONSGML plone.app.event//EN
X-WR-TIMEZONE:Europe/Zurich
BEGIN:VEVENT
SUMMARY:Check S2 Englisch Schreiben (Morgen)
DTSTART;TZID=Europe/Zurich;VALUE=DATE-TIME:20250123T072500
DTEND;TZID=Europe/Zurich;VALUE=DATE-TIME:20250123T114500
DTSTAMP;VALUE=DATE-TIME:20260421T110748Z
UID:040000008200E00074C5B7101A82E008000000003011D8D33CC2DA0100000000000000
 0010000000BD1CB016DB4A7146A81B1E654E5CEC26
CREATED;VALUE=DATE-TIME:20240627T145105Z
DESCRIPTION:None
LAST-MODIFIED;VALUE=DATE-TIME:20240815T063245Z
URL:https://www.sek-pratteln.ch/events/oeffentlich/check-s2-f-e-papier-mor
 gen
END:VEVENT
BEGIN:VTIMEZONE
TZID:Europe/Zurich
X-LIC-LOCATION:Europe/Zurich
BEGIN:STANDARD
DTSTART;VALUE=DATE-TIME:20241027T020000
TZNAME:CET
TZOFFSETFROM:+0200
TZOFFSETTO:+0100
END:STANDARD
END:VTIMEZONE
END:VCALENDAR
