BEGIN:VCALENDAR
VERSION:2.0
PRODID:-//Plone.org//NONSGML plone.app.event//EN
X-WR-TIMEZONE:Europe/Zurich
BEGIN:VEVENT
SUMMARY:Check S2 Ergebnisrückmeldung (Woche 18)
DTSTART;VALUE=DATE:20250428
DTEND;VALUE=DATE:20250429
DTSTAMP;VALUE=DATE-TIME:20260421T111158Z
UID:040000008200E00074C5B7101A82E00800000000C0CCBE2D42C2DA0100000000000000
 0010000000F519209A00FE1040A77CD166B7D5D022
CREATED;VALUE=DATE-TIME:20240627T145056Z
LAST-MODIFIED;VALUE=DATE-TIME:20240627T145632Z
URL:https://www.sek-pratteln.ch/events/oeffentlich/check-s2-ergebnisrueckm
 eldung-woche-18
END:VEVENT
END:VCALENDAR
