BEGIN:VCALENDAR
VERSION:2.0
PRODID:-//Plone.org//NONSGML plone.app.event//EN
X-WR-TIMEZONE:Europe/Zurich
BEGIN:VEVENT
SUMMARY:Check S2 Deutsch Schreiben (Morgen)
DTSTART;TZID=Europe/Zurich;VALUE=DATE-TIME:20250121T072500
DTEND;TZID=Europe/Zurich;VALUE=DATE-TIME:20250121T114500
DTSTAMP;VALUE=DATE-TIME:20260421T110748Z
UID:040000008200E00074C5B7101A82E008000000005054B0983CC2DA0100000000000000
 0010000000BD7853D20BB5DF4BB7D4BA66B393315C
CREATED;VALUE=DATE-TIME:20240627T145106Z
DESCRIPTION:None
LAST-MODIFIED;VALUE=DATE-TIME:20240815T063051Z
URL:https://www.sek-pratteln.ch/events/oeffentlich/check-s2-deutsch-papier
 -morgen
END:VEVENT
BEGIN:VTIMEZONE
TZID:Europe/Zurich
X-LIC-LOCATION:Europe/Zurich
BEGIN:STANDARD
DTSTART;VALUE=DATE-TIME:20241027T020000
TZNAME:CET
TZOFFSETFROM:+0200
TZOFFSETTO:+0100
END:STANDARD
END:VTIMEZONE
END:VCALENDAR
