BEGIN:VCALENDAR
VERSION:2.0
PRODID:-//Plone.org//NONSGML plone.app.event//EN
X-WR-TIMEZONE:Europe/Zurich
BEGIN:VEVENT
SUMMARY:Check S2 (8. Klassen)
DTSTART;TZID=Europe/Zurich;VALUE=DATE-TIME:20170313T000000
DTEND;TZID=Europe/Zurich;VALUE=DATE-TIME:20170401T000000
DTSTAMP;VALUE=DATE-TIME:20260421T113423Z
UID:040000008200E00074C5B7101A82E0080000000040690F9F47D8D10100000000000000
 0010000000C54B489F2EA96744B9377407685F4AD6
CREATED;VALUE=DATE-TIME:20160712T121607Z
LAST-MODIFIED;VALUE=DATE-TIME:20200706T064348Z
LOCATION:C-01
URL:https://www.sek-pratteln.ch/events/oeffentlich/check-s2-8-klassen-1
END:VEVENT
BEGIN:VTIMEZONE
TZID:Europe/Zurich
X-LIC-LOCATION:Europe/Zurich
BEGIN:DAYLIGHT
DTSTART;VALUE=DATE-TIME:20170326T030000
TZNAME:CEST
TZOFFSETFROM:+0100
TZOFFSETTO:+0200
END:DAYLIGHT
BEGIN:STANDARD
DTSTART;VALUE=DATE-TIME:20161030T020000
TZNAME:CET
TZOFFSETFROM:+0200
TZOFFSETTO:+0100
END:STANDARD
END:VTIMEZONE
END:VCALENDAR
