BEGIN:VCALENDAR
VERSION:2.0
PRODID:-//Plone.org//NONSGML plone.app.event//EN
X-WR-TIMEZONE:Europe/Zurich
BEGIN:VEVENT
SUMMARY:Check dein Wissen S2
DTSTART;VALUE=DATE:20220221
DTEND;VALUE=DATE:20220226
DTSTAMP;VALUE=DATE-TIME:20260419T152925Z
UID:040000008200E00074C5B7101A82E00800000000702FB9E69263D70100000000000000
 001000000004C56A6C8070FF448DE6DD420805E4F9
CREATED;VALUE=DATE-TIME:20210701T072600Z
LAST-MODIFIED;VALUE=DATE-TIME:20210701T072910Z
URL:https://www.sek-pratteln.ch/events/oeffentlich/check-dein-wissen-s2
END:VEVENT
END:VCALENDAR
