BEGIN:VCALENDAR
VERSION:2.0
PRODID:-//Plone.org//NONSGML plone.app.event//EN
X-WR-TIMEZONE:Europe/Zurich
BEGIN:VEVENT
SUMMARY:Check dein Wissen S2
DTSTART;TZID=Europe/Zurich;VALUE=DATE-TIME:20220314T000000
DTEND;TZID=Europe/Zurich;VALUE=DATE-TIME:20220402T000000
DTSTAMP;VALUE=DATE-TIME:20260421T065952Z
UID:040000008200E00074C5B7101A82E00800000000102C46129363D70100000000000000
 0010000000CBD410C12D1B6949A0E6AA21F3C3D48B
CREATED;VALUE=DATE-TIME:20210701T072600Z
LAST-MODIFIED;VALUE=DATE-TIME:20210701T072910Z
URL:https://www.sek-pratteln.ch/events/oeffentlich/check-dein-wissen-s2-1
END:VEVENT
BEGIN:VTIMEZONE
TZID:Europe/Zurich
X-LIC-LOCATION:Europe/Zurich
BEGIN:STANDARD
DTSTART;VALUE=DATE-TIME:20211031T020000
TZNAME:CET
TZOFFSETFROM:+0200
TZOFFSETTO:+0100
END:STANDARD
BEGIN:DAYLIGHT
DTSTART;VALUE=DATE-TIME:20220327T030000
TZNAME:CEST
TZOFFSETFROM:+0100
TZOFFSETTO:+0200
END:DAYLIGHT
END:VTIMEZONE
END:VCALENDAR
